BEGIN:VCALENDAR
VERSION:2.0
PRODID:-//eventon.com NONSGML v1.0//EN
CALSCALE:GREGORIAN
METHOD:PUBLISH
BEGIN:VEVENT
UID:69ea14f7ccb0a
DTSTAMP:20260423T124751Z
DTSTART:20260412
DTEND:20260413
LOCATION:
SUMMARY:Indoor 3D Valleishoot 2026 Asten Heusden
DESCRIPTION:Opgave via App Manege De Witte Vallei Gezandebaan 31 5725 TM As
 ten Heusden\nhttps://heideroosjeheibloem.nl/events/valleishoot-asten-heusde
 n/
URL:https://heideroosjeheibloem.nl/events/valleishoot-asten-heusden/
END:VEVENT
END:VCALENDAR